BEGIN:VCALENDAR
VERSION:2.0
PRODID:-//Alpsteinclub - ECPv6.0.13.1//NONSGML v1.0//EN
CALSCALE:GREGORIAN
METHOD:PUBLISH
X-WR-CALNAME:Alpsteinclub
X-ORIGINAL-URL:https://alpsteinclub.ch
X-WR-CALDESC:Veranstaltungen für Alpsteinclub
REFRESH-INTERVAL;VALUE=DURATION:PT1H
X-Robots-Tag:noindex
X-PUBLISHED-TTL:PT1H
BEGIN:VTIMEZONE
TZID:Europe/Zurich
BEGIN:DAYLIGHT
TZOFFSETFROM:+0100
TZOFFSETTO:+0200
TZNAME:CEST
DTSTART:20260329T010000
END:DAYLIGHT
BEGIN:STANDARD
TZOFFSETFROM:+0200
TZOFFSETTO:+0100
TZNAME:CET
DTSTART:20261025T010000
END:STANDARD
END:VTIMEZONE
BEGIN:VEVENT
DTSTART;TZID=Europe/Zurich:20260424T080000
DTEND;TZID=Europe/Zurich:20260424T170000
DTSTAMP:20260424T142815
CREATED:20251020T144235Z
LAST-MODIFIED:20251024T150643Z
UID:11720-1777017600-1777050000@alpsteinclub.ch
SUMMARY:Testen bis es kracht
DESCRIPTION:Materialtechnik-Abend mit Meieli im Kubel.\nStaunen garantiert – über enorme Reserven und klare Grenzen.\nStart 19:00 Uhr
URL:https://alpsteinclub.ch/event/testen-bis-es-kracht/
ATTACH;FMTTYPE=image/svg+xml:https://alpsteinclub.ch/wp-content/uploads/2023/05/Alpstein-Club_Icons_gruen4_Panorama-Tour.svg
ORGANIZER;CN="Andreas%20Brunner":MAILTO:andreas.brunner@bergimpuls.ch
END:VEVENT
END:VCALENDAR