BEGIN:VCALENDAR
VERSION:2.0
PRODID:-//Alpsteinclub - ECPv6.0.13.1//NONSGML v1.0//EN
CALSCALE:GREGORIAN
METHOD:PUBLISH
X-WR-CALNAME:Alpsteinclub
X-ORIGINAL-URL:https://alpsteinclub.ch
X-WR-CALDESC:Veranstaltungen für Alpsteinclub
REFRESH-INTERVAL;VALUE=DURATION:PT1H
X-Robots-Tag:noindex
X-PUBLISHED-TTL:PT1H
BEGIN:VTIMEZONE
TZID:Europe/Zurich
BEGIN:DAYLIGHT
TZOFFSETFROM:+0100
TZOFFSETTO:+0200
TZNAME:CEST
DTSTART:20260329T010000
END:DAYLIGHT
BEGIN:STANDARD
TZOFFSETFROM:+0200
TZOFFSETTO:+0100
TZNAME:CET
DTSTART:20261025T010000
END:STANDARD
END:VTIMEZONE
BEGIN:VEVENT
DTSTART;VALUE=DATE:20260627
DTEND;VALUE=DATE:20260705
DTSTAMP:20260424T162423
CREATED:20251024T155104Z
LAST-MODIFIED:20251106T084421Z
UID:11781-1782518400-1783209599@alpsteinclub.ch
SUMMARY:Pustertal - Tourenwoche Wandern Biken
DESCRIPTION:Tourenwoche ist ausgebucht!
URL:https://alpsteinclub.ch/event/pustertal-tourenwoche-wandern-biken/
ATTACH;FMTTYPE=image/svg+xml:https://alpsteinclub.ch/wp-content/uploads/2023/05/Alpstein-Club_Icons_gruen4_Wanderer.svg
ORGANIZER;CN="Anita%20und%20Hans%20Lieberherr":MAILTO:lieberherr.a@bluewin.ch
END:VEVENT
END:VCALENDAR