BEGIN:VCALENDAR
VERSION:2.0
PRODID:-//Alpsteinclub - ECPv6.0.13.1//NONSGML v1.0//EN
CALSCALE:GREGORIAN
METHOD:PUBLISH
X-WR-CALNAME:Alpsteinclub
X-ORIGINAL-URL:https://alpsteinclub.ch
X-WR-CALDESC:Veranstaltungen für Alpsteinclub
REFRESH-INTERVAL;VALUE=DURATION:PT1H
X-Robots-Tag:noindex
X-PUBLISHED-TTL:PT1H
BEGIN:VTIMEZONE
TZID:Europe/Zurich
BEGIN:DAYLIGHT
TZOFFSETFROM:+0100
TZOFFSETTO:+0200
TZNAME:CEST
DTSTART:20260329T010000
END:DAYLIGHT
BEGIN:STANDARD
TZOFFSETFROM:+0200
TZOFFSETTO:+0100
TZNAME:CET
DTSTART:20261025T010000
END:STANDARD
END:VTIMEZONE
BEGIN:VEVENT
DTSTART;TZID=Europe/Zurich:20260606T080000
DTEND;TZID=Europe/Zurich:20260606T170000
DTSTAMP:20260424T175227
CREATED:20251024T153318Z
LAST-MODIFIED:20251024T153318Z
UID:11768-1780732800-1780765200@alpsteinclub.ch
SUMMARY:Keschnadel / Piz Kesch
DESCRIPTION:Übernachtung Chamanna d’Es-cha / über die Keschnadel auf den Piz Kesch / Kletterei bis 5b / Max. 3 TN\nAnmeldung bis So\, 03.05.2026
URL:https://alpsteinclub.ch/event/keschnadel-piz-kesch/
ATTACH;FMTTYPE=image/svg+xml:https://alpsteinclub.ch/wp-content/uploads/2023/05/Alpstein-Club_Icons_gruen4_Kletterer.svg
ORGANIZER;CN="Mario%20Broger":MAILTO:mario.broger@hotmail.com
END:VEVENT
END:VCALENDAR