BEGIN:VCALENDAR
VERSION:2.0
PRODID:-//Alpsteinclub - ECPv6.0.13.1//NONSGML v1.0//EN
CALSCALE:GREGORIAN
METHOD:PUBLISH
X-WR-CALNAME:Alpsteinclub
X-ORIGINAL-URL:https://alpsteinclub.ch
X-WR-CALDESC:Veranstaltungen für Alpsteinclub
REFRESH-INTERVAL;VALUE=DURATION:PT1H
X-Robots-Tag:noindex
X-PUBLISHED-TTL:PT1H
BEGIN:VTIMEZONE
TZID:Europe/Zurich
BEGIN:DAYLIGHT
TZOFFSETFROM:+0100
TZOFFSETTO:+0200
TZNAME:CEST
DTSTART:20260329T010000
END:DAYLIGHT
BEGIN:STANDARD
TZOFFSETFROM:+0200
TZOFFSETTO:+0100
TZNAME:CET
DTSTART:20261025T010000
END:STANDARD
END:VTIMEZONE
BEGIN:VEVENT
DTSTART;TZID=Europe/Zurich:20260919T080000
DTEND;TZID=Europe/Zurich:20260919T170000
DTSTAMP:20260424T175803
CREATED:20251024T173122Z
LAST-MODIFIED:20251024T173123Z
UID:11837-1789804800-1789837200@alpsteinclub.ch
SUMMARY:Holz- und Putztag Clubheim
DESCRIPTION:Wir treffen uns am Freitagabend oder Samstagmorgen zum jährlichen Hüttenputz und den anstehenden Holzarbeiten.\nAnmeldung erwünscht
URL:https://alpsteinclub.ch/event/holz-und-putztag-clubheim-4/
ATTACH;FMTTYPE=image/svg+xml:https://alpsteinclub.ch/wp-content/uploads/2023/05/Alpstein-Club_Icons_gruen4_Clubhuette.svg
ORGANIZER;CN="Walter%20Stauffer":MAILTO:walter.stauffer@gmx.ch
END:VEVENT
END:VCALENDAR