BEGIN:VCALENDAR
VERSION:2.0
PRODID:-//Alpsteinclub - ECPv6.0.13.1//NONSGML v1.0//EN
CALSCALE:GREGORIAN
METHOD:PUBLISH
X-WR-CALNAME:Alpsteinclub
X-ORIGINAL-URL:https://alpsteinclub.ch
X-WR-CALDESC:Veranstaltungen für Alpsteinclub
REFRESH-INTERVAL;VALUE=DURATION:PT1H
X-Robots-Tag:noindex
X-PUBLISHED-TTL:PT1H
BEGIN:VTIMEZONE
TZID:Europe/Zurich
BEGIN:DAYLIGHT
TZOFFSETFROM:+0100
TZOFFSETTO:+0200
TZNAME:CEST
DTSTART:20260329T010000
END:DAYLIGHT
BEGIN:STANDARD
TZOFFSETFROM:+0200
TZOFFSETTO:+0100
TZNAME:CET
DTSTART:20261025T010000
END:STANDARD
END:VTIMEZONE
BEGIN:VEVENT
DTSTART;TZID=Europe/Zurich:20260429T080000
DTEND;TZID=Europe/Zurich:20260429T170000
DTSTAMP:20260424T162300
CREATED:20251020T144739Z
LAST-MODIFIED:20260412T061402Z
UID:11729-1777449600-1777482000@alpsteinclub.ch
SUMMARY:Biketour: Sennwald-Wildhaus-Voralpsee
DESCRIPTION:Ab Sennwald ins Toggenburg\nFlyer_Sennwald-Wildhaus-Oelberg
URL:https://alpsteinclub.ch/event/biketour-sennwald-wildhaus-voralpsee/
ATTACH;FMTTYPE=image/svg+xml:https://alpsteinclub.ch/wp-content/uploads/2023/05/Alpstein-Club_Icons_gruen4_Bike.svg
ORGANIZER;CN="Luise%20Stauffer":MAILTO:luise.stauffer@gmx.ch
END:VEVENT
END:VCALENDAR