BEGIN:VCALENDAR
VERSION:2.0
PRODID:-//Alpsteinclub - ECPv6.0.13.1//NONSGML v1.0//EN
CALSCALE:GREGORIAN
METHOD:PUBLISH
X-WR-CALNAME:Alpsteinclub
X-ORIGINAL-URL:https://alpsteinclub.ch
X-WR-CALDESC:Veranstaltungen für Alpsteinclub
REFRESH-INTERVAL;VALUE=DURATION:PT1H
X-Robots-Tag:noindex
X-PUBLISHED-TTL:PT1H
BEGIN:VTIMEZONE
TZID:Europe/Zurich
BEGIN:DAYLIGHT
TZOFFSETFROM:+0100
TZOFFSETTO:+0200
TZNAME:CEST
DTSTART:20260329T010000
END:DAYLIGHT
BEGIN:STANDARD
TZOFFSETFROM:+0200
TZOFFSETTO:+0100
TZNAME:CET
DTSTART:20261025T010000
END:STANDARD
END:VTIMEZONE
BEGIN:VEVENT
DTSTART;TZID=Europe/Zurich:20260823T080000
DTEND;TZID=Europe/Zurich:20260823T170000
DTSTAMP:20260424T175225
CREATED:20251024T160755Z
LAST-MODIFIED:20251024T164135Z
UID:11795-1787472000-1787504400@alpsteinclub.ch
SUMMARY:Alpstein erleben & verstehen
DESCRIPTION:Treffpunkt 07:30 Talstation Ebenalp / Max. 6 TN / mehr Infos im Clubblättli\nAnmeldung bis 16.August
URL:https://alpsteinclub.ch/event/alpstein-erleben-verstehen/
ATTACH;FMTTYPE=image/svg+xml:https://alpsteinclub.ch/wp-content/uploads/2023/05/Alpstein-Club_Icons_gruen4_Wanderer.svg
ORGANIZER;CN="Armin%20Rempfler":MAILTO:armin.rempfler@bluewin.ch
END:VEVENT
END:VCALENDAR