BEGIN:VCALENDAR
VERSION:2.0
PRODID:-//Alpsteinclub - ECPv6.0.13.1//NONSGML v1.0//EN
CALSCALE:GREGORIAN
METHOD:PUBLISH
X-WR-CALNAME:Alpsteinclub
X-ORIGINAL-URL:https://alpsteinclub.ch
X-WR-CALDESC:Veranstaltungen für Alpsteinclub
REFRESH-INTERVAL;VALUE=DURATION:PT1H
X-Robots-Tag:noindex
X-PUBLISHED-TTL:PT1H
BEGIN:VTIMEZONE
TZID:Europe/Zurich
BEGIN:DAYLIGHT
TZOFFSETFROM:+0100
TZOFFSETTO:+0200
TZNAME:CEST
DTSTART:20260329T010000
END:DAYLIGHT
BEGIN:STANDARD
TZOFFSETFROM:+0200
TZOFFSETTO:+0100
TZNAME:CET
DTSTART:20261025T010000
END:STANDARD
END:VTIMEZONE
BEGIN:VEVENT
DTSTART;VALUE=DATE:20261006
DTEND;VALUE=DATE:20261008
DTSTAMP:20260424T162435
CREATED:20251024T174054Z
LAST-MODIFIED:20251024T174054Z
UID:11847-1791244800-1791417599@alpsteinclub.ch
SUMMARY:2-Tages-Radtour ins Zürcher Oberland
DESCRIPTION:Mehr Infos im Clubblättli\nAnmeldung bis 30. Juni.
URL:https://alpsteinclub.ch/event/2-tages-radtour-ins-zuercher-oberland/
ATTACH;FMTTYPE=image/svg+xml:https://alpsteinclub.ch/wp-content/uploads/2023/05/Alpstein-Club_Icons_gruen4_Bike.svg
ORGANIZER;CN="Markus%20Sutter":MAILTO:markus.sutter.ai@gmail.com
END:VEVENT
END:VCALENDAR